BEGIN:VCALENDAR
VERSION:2.0
PRODID:-//RTE All Ireland Drama Festival - ECPv6.0.11//NONSGML v1.0//EN
CALSCALE:GREGORIAN
METHOD:PUBLISH
X-WR-CALNAME:RTE All Ireland Drama Festival
X-ORIGINAL-URL:https://www.dramafestival.ie
X-WR-CALDESC:Events for RTE All Ireland Drama Festival
REFRESH-INTERVAL;VALUE=DURATION:PT1H
X-Robots-Tag:noindex
X-PUBLISHED-TTL:PT1H
BEGIN:VTIMEZONE
TZID:UTC
BEGIN:STANDARD
TZOFFSETFROM:+0000
TZOFFSETTO:+0000
TZNAME:UTC
DTSTART:20250101T000000
END:STANDARD
END:VTIMEZONE
BEGIN:VEVENT
DTSTART;TZID=UTC:20250504T120000
DTEND;TZID=UTC:20250504T160000
DTSTAMP:20260423T143018
CREATED:20250414T185807Z
LAST-MODIFIED:20250428T102843Z
UID:4236-1746360000-1746374400@www.dramafestival.ie
SUMMARY:Connaught Gardens Market with Lifesize Puppets
DESCRIPTION:Picture credits Paola Bassanese \nA family friendly pop-up market in Connaught Gardens starting at noon on Sunday May 4th till 4pm. Face painting (no real paint)\, Puppets\, Food\, Bric a Brac.
URL:https://www.dramafestival.ie/event/connaught-gardens-market/
LOCATION:Connaught Gardens\, Connaught Gardens\, Athlone\, Ireland
CATEGORIES:Fringe 2025
ATTACH;FMTTYPE=image/jpeg:https://www.dramafestival.ie/wp-content/uploads/2025/04/MG_8240-scaled.jpg
END:VEVENT
END:VCALENDAR