BEGIN:VCALENDAR
VERSION:2.0
PRODID:-//RTE All Ireland Drama Festival - ECPv6.0.11//NONSGML v1.0//EN
CALSCALE:GREGORIAN
METHOD:PUBLISH
X-ORIGINAL-URL:https://www.dramafestival.ie
X-WR-CALDESC:Events for RTE All Ireland Drama Festival
REFRESH-INTERVAL;VALUE=DURATION:PT1H
X-Robots-Tag:noindex
X-PUBLISHED-TTL:PT1H
BEGIN:VTIMEZONE
TZID:UTC
BEGIN:STANDARD
TZOFFSETFROM:+0000
TZOFFSETTO:+0000
TZNAME:UTC
DTSTART:20250101T000000
END:STANDARD
END:VTIMEZONE
BEGIN:VEVENT
DTSTART;TZID=UTC:20250507T183000
DTEND;TZID=UTC:20250507T193000
DTSTAMP:20260423T143326
CREATED:20250425T162219Z
LAST-MODIFIED:20250425T162219Z
UID:4425-1746642600-1746646200@www.dramafestival.ie
SUMMARY:Presentation of awards for Shop Window Display
DESCRIPTION:Wednesday 7 th May\, 6.45 pm\nPresentation of awards for Shop Window Display\nLaunch and reception of Art exhibition ‘The West; in Light and Shade’\nLandscape artists Yvonne McDonald and John Higgins display their work of the wild wonderful west.\nAIB Gallery\, Dean Crowe Theatre\nFree Event
URL:https://www.dramafestival.ie/event/presentation-of-awards-for-shop-window-display-2/
LOCATION:Dean Crowe Theatre\, Chapel Street\, Athlone\, Co. Westmeath\, N37 VF29\, Ireland
CATEGORIES:Fringe 2025
ATTACH;FMTTYPE=image/jpeg:https://www.dramafestival.ie/wp-content/uploads/2025/04/MG_8240-scaled.jpg
END:VEVENT
BEGIN:VEVENT
DTSTART;TZID=UTC:20250507T200000
DTEND;TZID=UTC:20250507T210000
DTSTAMP:20260423T143326
CREATED:20250425T162422Z
LAST-MODIFIED:20250506T123253Z
UID:4428-1746648000-1746651600@www.dramafestival.ie
SUMMARY:Winners from the All Ireland Confined Final 2025 St Patrick's Drama Group
DESCRIPTION:Wednesday 7 th May\, 8 pm\nSt Patrick’s Drama Group\, winners from the All Ireland Confined Final 2025 perform ’Woman and Scarecrow’ at the Dean Crowe Theatre \nFree admission
URL:https://www.dramafestival.ie/event/winners-from-the-all-ireland-confined-final-2025-to-be-confirmed/
LOCATION:Dean Crowe Theatre\, Chapel Street\, Athlone\, Co. Westmeath\, N37 VF29\, Ireland
CATEGORIES:Fringe 2025
ATTACH;FMTTYPE=image/jpeg:https://www.dramafestival.ie/wp-content/uploads/2025/04/MG_8240-scaled.jpg
END:VEVENT
END:VCALENDAR