BEGIN:VCALENDAR
VERSION:2.0
PRODID:-//RTE All Ireland Drama Festival - ECPv6.0.11//NONSGML v1.0//EN
CALSCALE:GREGORIAN
METHOD:PUBLISH
X-ORIGINAL-URL:https://www.dramafestival.ie
X-WR-CALDESC:Events for RTE All Ireland Drama Festival
REFRESH-INTERVAL;VALUE=DURATION:PT1H
X-Robots-Tag:noindex
X-PUBLISHED-TTL:PT1H
BEGIN:VTIMEZONE
TZID:UTC
BEGIN:STANDARD
TZOFFSETFROM:+0000
TZOFFSETTO:+0000
TZNAME:UTC
DTSTART:20250101T000000
END:STANDARD
END:VTIMEZONE
BEGIN:VEVENT
DTSTART;TZID=UTC:20250509T183000
DTEND;TZID=UTC:20250509T193000
DTSTAMP:20260423T214252
CREATED:20250425T162852Z
LAST-MODIFIED:20250425T162852Z
UID:4433-1746815400-1746819000@www.dramafestival.ie
SUMMARY:Athlone A Cappella
DESCRIPTION:Friday 9 th May\, 6.30 pm\nSheraton Hotel Foyer\nAthlone A Cappella return with their unique choral recitals.\nPopular vocal musical entertainment.\nFree Event.
URL:https://www.dramafestival.ie/event/athlone-a-cappella-2/
LOCATION:Sheraton Hotel Athlone\, Gleeson St\, Athlone\, Co. Westmeath\, N37 D953\, Ireland
CATEGORIES:Fringe 2025
ATTACH;FMTTYPE=image/jpeg:https://www.dramafestival.ie/wp-content/uploads/2025/04/MG_8240-scaled.jpg
END:VEVENT
END:VCALENDAR