BEGIN:VCALENDAR
VERSION:2.0
PRODID:-//RTE All Ireland Drama Festival - ECPv6.0.11//NONSGML v1.0//EN
CALSCALE:GREGORIAN
METHOD:PUBLISH
X-WR-CALNAME:RTE All Ireland Drama Festival
X-ORIGINAL-URL:https://www.dramafestival.ie
X-WR-CALDESC:Events for RTE All Ireland Drama Festival
REFRESH-INTERVAL;VALUE=DURATION:PT1H
X-Robots-Tag:noindex
X-PUBLISHED-TTL:PT1H
BEGIN:VTIMEZONE
TZID:UTC
BEGIN:STANDARD
TZOFFSETFROM:+0000
TZOFFSETTO:+0000
TZNAME:UTC
DTSTART:20250101T000000
END:STANDARD
END:VTIMEZONE
BEGIN:VEVENT
DTSTART;TZID=UTC:20250514T110000
DTEND;TZID=UTC:20250514T130000
DTSTAMP:20260424T053930
CREATED:20250425T165014Z
LAST-MODIFIED:20250506T104406Z
UID:4451-1747220400-1747227600@www.dramafestival.ie
SUMMARY:CANCELLED - Drama Wellness Workshop
DESCRIPTION:*CANCELLED* \nPlease note that the ‘Drama Wellness Workshop’ event is now cancelled\, apologies for the inconvenience.\n\, .
URL:https://www.dramafestival.ie/event/drama-wellness-workshop/
LOCATION:Co. Westmeath
CATEGORIES:Fringe 2025
ATTACH;FMTTYPE=image/jpeg:https://www.dramafestival.ie/wp-content/uploads/2025/04/MG_8240-scaled.jpg
END:VEVENT
END:VCALENDAR