BEGIN:VCALENDAR
VERSION:2.0
PRODID:-//RTE All Ireland Drama Festival - ECPv6.0.11//NONSGML v1.0//EN
CALSCALE:GREGORIAN
METHOD:PUBLISH
X-ORIGINAL-URL:https://www.dramafestival.ie
X-WR-CALDESC:Events for RTE All Ireland Drama Festival
REFRESH-INTERVAL;VALUE=DURATION:PT1H
X-Robots-Tag:noindex
X-PUBLISHED-TTL:PT1H
BEGIN:VTIMEZONE
TZID:UTC
BEGIN:STANDARD
TZOFFSETFROM:+0000
TZOFFSETTO:+0000
TZNAME:UTC
DTSTART:20250101T000000
END:STANDARD
END:VTIMEZONE
BEGIN:VEVENT
DTSTART;TZID=UTC:20250515T110000
DTEND;TZID=UTC:20250515T120000
DTSTAMP:20260423T172634
CREATED:20250425T165201Z
LAST-MODIFIED:20250425T165201Z
UID:4453-1747306800-1747310400@www.dramafestival.ie
SUMMARY:Historic Walking Tour of Athlone
DESCRIPTION:Thursday 15 th May\, 11.00 am\nHistoric Walking Tour of Athlone\nStart Point: Dean Crowe Theatre\n‘In the footsteps of John Count McCormack’. A walking trail with Historian Gearoid O’Brien.\nDress appropriately approximately one hour duration.\nFree Event
URL:https://www.dramafestival.ie/event/historic-walking-tour-of-athlone/
LOCATION:Dean Crowe Theatre\, Chapel Street\, Athlone\, Co. Westmeath\, N37 VF29\, Ireland
CATEGORIES:Fringe 2025
ATTACH;FMTTYPE=image/jpeg:https://www.dramafestival.ie/wp-content/uploads/2025/04/MG_8240-scaled.jpg
END:VEVENT
BEGIN:VEVENT
DTSTART;TZID=UTC:20250515T150000
DTEND;TZID=UTC:20250515T160000
DTSTAMP:20260423T172634
CREATED:20250425T165338Z
LAST-MODIFIED:20250425T165338Z
UID:4456-1747321200-1747324800@www.dramafestival.ie
SUMMARY:Launch of TUS Archive and Special Collections
DESCRIPTION:Thursday 15 th May\, 3.00pm\nLaunch of TUS Archive and Special Collections\nTUS Library\, Athlone Campus\nDr. Lisa Griffith\, Director of the Digital Repository of Ireland (DRI) will launch the new library\nservice which builds on the Brendan O’Brien collection and will catalogue material such as\ncorrespondence\, posters\, programmes etc. of the drama movement in Ireland.\nFree Event
URL:https://www.dramafestival.ie/event/launch-of-tus-archive-and-special-collections/
LOCATION:TUS AThlone Campus\, University Road\, Athlone\, Co. Westmeath\, N37 HD68\, Ireland
CATEGORIES:Fringe 2025
ATTACH;FMTTYPE=image/jpeg:https://www.dramafestival.ie/wp-content/uploads/2025/04/MG_8240-scaled.jpg
END:VEVENT
BEGIN:VEVENT
DTSTART;TZID=UTC:20250515T193000
DTEND;TZID=UTC:20250515T203000
DTSTAMP:20260423T172634
CREATED:20250425T165559Z
LAST-MODIFIED:20250425T165559Z
UID:4460-1747337400-1747341000@www.dramafestival.ie
SUMMARY:Athlone Pipe Band
DESCRIPTION:Thursday 15 th May\, 7.15 pm\nAthlone Pipe Band\nCount John McCormick Square\nJoin in and march behind the band\, as we leave the civic square to go over the bridge to the Dean Crowe theatre. Enjoy a feast of lively pipe music. Sunshine optional.\nFree event.
URL:https://www.dramafestival.ie/event/athlone-pipe-band-2/
LOCATION:Aidan Heavey Library\, Athlone
CATEGORIES:Fringe 2025
ATTACH;FMTTYPE=image/jpeg:https://www.dramafestival.ie/wp-content/uploads/2025/04/MG_8240-scaled.jpg
END:VEVENT
END:VCALENDAR