BEGIN:VCALENDAR
VERSION:2.0
PRODID:-//RTE All Ireland Drama Festival - ECPv6.0.11//NONSGML v1.0//EN
CALSCALE:GREGORIAN
METHOD:PUBLISH
X-WR-CALNAME:RTE All Ireland Drama Festival
X-ORIGINAL-URL:https://www.dramafestival.ie
X-WR-CALDESC:Events for RTE All Ireland Drama Festival
REFRESH-INTERVAL;VALUE=DURATION:PT1H
X-Robots-Tag:noindex
X-PUBLISHED-TTL:PT1H
BEGIN:VTIMEZONE
TZID:UTC
BEGIN:STANDARD
TZOFFSETFROM:+0000
TZOFFSETTO:+0000
TZNAME:UTC
DTSTART:20250101T000000
END:STANDARD
END:VTIMEZONE
BEGIN:VEVENT
DTSTART;TZID=UTC:20250516T190000
DTEND;TZID=UTC:20250516T200000
DTSTAMP:20260423T155224
CREATED:20250425T170313Z
LAST-MODIFIED:20250425T170313Z
UID:4463-1747422000-1747425600@www.dramafestival.ie
SUMMARY:Music by Bernard and Patrice Coyle
DESCRIPTION:Friday 16 th May\, 7 pm\nMusic by Bernard and Patrice Coyle \nDean Crowe forecourt \nFree
URL:https://www.dramafestival.ie/event/music-by-bernard-and-patrice-coyle/
LOCATION:Dean Crowe Theatre\, Chapel Street\, Athlone\, Co. Westmeath\, N37 VF29\, Ireland
CATEGORIES:Fringe 2025
ATTACH;FMTTYPE=image/jpeg:https://www.dramafestival.ie/wp-content/uploads/2025/04/MG_8240-scaled.jpg
END:VEVENT
END:VCALENDAR