BEGIN:VCALENDAR
VERSION:2.0
PRODID:-//RTE All Ireland Drama Festival - ECPv6.0.11//NONSGML v1.0//EN
CALSCALE:GREGORIAN
METHOD:PUBLISH
X-WR-CALNAME:RTE All Ireland Drama Festival
X-ORIGINAL-URL:https://www.dramafestival.ie
X-WR-CALDESC:Events for RTE All Ireland Drama Festival
REFRESH-INTERVAL;VALUE=DURATION:PT1H
X-Robots-Tag:noindex
X-PUBLISHED-TTL:PT1H
BEGIN:VTIMEZONE
TZID:UTC
BEGIN:STANDARD
TZOFFSETFROM:+0000
TZOFFSETTO:+0000
TZNAME:UTC
DTSTART:20250101T000000
END:STANDARD
END:VTIMEZONE
BEGIN:VEVENT
DTSTART;TZID=UTC:20250517T183000
DTEND;TZID=UTC:20250517T233000
DTSTAMP:20260425T223745
CREATED:20250425T170835Z
LAST-MODIFIED:20250501T181530Z
UID:4468-1747506600-1747524600@www.dramafestival.ie
SUMMARY:THE PARTY NIGHT OF THE YEAR Gala Awards Ceremony
DESCRIPTION:Saturday 17 th May\, 6.30 pm\nTHE PARTY NIGHT OF THE YEAR. Gala Awards Ceremony\,\nLive Streamed by RTĖ at 9pm. We finally discover who are the 2025 winners of the Irish Drama\nscene.\nAthlone Radisson Hotel \nTicket holders only. FULLY BOOKED.
URL:https://www.dramafestival.ie/event/the-party-night-of-the-year-gala-awards-ceremony/
LOCATION:Radisson Hotel Athlone\, Northgate Street\, Athlone\, Co. Westmeath\, N37 A8X9\, Ireland
CATEGORIES:Fringe 2025
ATTACH;FMTTYPE=image/jpeg:https://www.dramafestival.ie/wp-content/uploads/2024/05/IMG_4630-scaled.jpg
END:VEVENT
END:VCALENDAR